BEGIN:VCALENDAR
VERSION:2.0
PRODID:-//192.185.164.9//NONSGML kigkonsult.se iCalcreator 2.26.9//
CALSCALE:GREGORIAN
METHOD:PUBLISH
X-FROM-URL:https://www.trinitypreschool.org.au
X-WR-TIMEZONE:Australia/Sydney
BEGIN:VTIMEZONE
TZID:Australia/Sydney
X-LIC-LOCATION:Australia/Sydney
BEGIN:STANDARD
DTSTART:20210404T030000
TZOFFSETFROM:+1100
TZOFFSETTO:+1000
RDATE:20220403T030000
TZNAME:AEST
END:STANDARD
BEGIN:DAYLIGHT
DTSTART:20201004T020000
TZOFFSETFROM:+1000
TZOFFSETTO:+1100
RDATE:20211003T020000
TZNAME:AEDT
END:DAYLIGHT
END:VTIMEZONE
BEGIN:VEVENT
UID:ai1ec-1438@www.trinitypreschool.org.au
DTSTAMP:20210301T023700Z
CATEGORIES:
CONTACT:
DESCRIPTION:
DTSTART;VALUE=DATE:20190415
DTEND;VALUE=DATE:20190427
SEQUENCE:0
SUMMARY:Preschool Holidays
URL:https://www.trinitypreschool.org.au/event/preschool-holidays-2/
X-COST-TYPE:free
END:VEVENT
BEGIN:VEVENT
UID:ai1ec-1440@www.trinitypreschool.org.au
DTSTAMP:20210301T023700Z
CATEGORIES:
CONTACT:
DESCRIPTION:
DTSTART;VALUE=DATE:20190429
DTEND;VALUE=DATE:20190430
SEQUENCE:0
SUMMARY:Pupil Free Day – no preschool
URL:https://www.trinitypreschool.org.au/event/pupil-free-day-no-preschool/
X-COST-TYPE:free
END:VEVENT
END:VCALENDAR
